BEGIN:VCALENDAR
VERSION:2.0
PRODID:-//St. Joseph Catholic Church - ECPv6.15.20//NONSGML v1.0//EN
CALSCALE:GREGORIAN
METHOD:PUBLISH
X-ORIGINAL-URL:https://stjosephwhitesalmon.org
X-WR-CALDESC:Events for St. Joseph Catholic Church
REFRESH-INTERVAL;VALUE=DURATION:PT1H
X-Robots-Tag:noindex
X-PUBLISHED-TTL:PT1H
BEGIN:VTIMEZONE
TZID:America/Los_Angeles
BEGIN:DAYLIGHT
TZOFFSETFROM:-0800
TZOFFSETTO:-0700
TZNAME:PDT
DTSTART:20250309T100000
END:DAYLIGHT
BEGIN:STANDARD
TZOFFSETFROM:-0700
TZOFFSETTO:-0800
TZNAME:PST
DTSTART:20251102T090000
END:STANDARD
BEGIN:DAYLIGHT
TZOFFSETFROM:-0800
TZOFFSETTO:-0700
TZNAME:PDT
DTSTART:20260308T100000
END:DAYLIGHT
BEGIN:STANDARD
TZOFFSETFROM:-0700
TZOFFSETTO:-0800
TZNAME:PST
DTSTART:20261101T090000
END:STANDARD
BEGIN:DAYLIGHT
TZOFFSETFROM:-0800
TZOFFSETTO:-0700
TZNAME:PDT
DTSTART:20270314T100000
END:DAYLIGHT
BEGIN:STANDARD
TZOFFSETFROM:-0700
TZOFFSETTO:-0800
TZNAME:PST
DTSTART:20271107T090000
END:STANDARD
END:VTIMEZONE
BEGIN:VEVENT
DTSTART;VALUE=DATE:20260329
DTEND;VALUE=DATE:20260330
DTSTAMP:20260420T165532
CREATED:20260307T060947Z
LAST-MODIFIED:20260307T060947Z
UID:18947-1774742400-1774828799@stjosephwhitesalmon.org
SUMMARY:Plática Prebautismal ꞁ Mes de Marzo
DESCRIPTION:9 – 10 a.m.\, en el Salón San José
URL:https://stjosephwhitesalmon.org/events/platica-prebautismal-%ea%9e%81-mes-de-marzo/
END:VEVENT
BEGIN:VEVENT
DTSTART;VALUE=DATE:20260329
DTEND;VALUE=DATE:20260330
DTSTAMP:20260420T165532
CREATED:20260328T044602Z
LAST-MODIFIED:20260328T044602Z
UID:19009-1774742400-1774828799@stjosephwhitesalmon.org
SUMMARY:Coffee Social
DESCRIPTION:After the 9 a.m. Mass\, in the parish basement.
URL:https://stjosephwhitesalmon.org/events/coffee-social-28/
END:VEVENT
BEGIN:VEVENT
DTSTART;VALUE=DATE:20260330
DTEND;VALUE=DATE:20260331
DTSTAMP:20260420T165532
CREATED:20260314T033426Z
LAST-MODIFIED:20260314T033426Z
UID:18964-1774828800-1774915199@stjosephwhitesalmon.org
SUMMARY:Lenten Penance Service | Confesiones Cuaresmales
DESCRIPTION:6 p.m. St. Mary / Santa María\, Hood River
URL:https://stjosephwhitesalmon.org/events/lenten-penance-service-confesiones-cuaresmales-4/
END:VEVENT
BEGIN:VEVENT
DTSTART;VALUE=DATE:20260402
DTEND;VALUE=DATE:20260403
DTSTAMP:20260420T165532
CREATED:20260328T044742Z
LAST-MODIFIED:20260329T203825Z
UID:19011-1775088000-1775174399@stjosephwhitesalmon.org
SUMMARY:Holy Thursday | Jueves Santo
DESCRIPTION:6 p.m. Mass in English | 8 p.m. Misa en Español
URL:https://stjosephwhitesalmon.org/events/holy-thursday-5/
END:VEVENT
BEGIN:VEVENT
DTSTART;VALUE=DATE:20260403
DTEND;VALUE=DATE:20260404
DTSTAMP:20260420T165532
CREATED:20260328T044812Z
LAST-MODIFIED:20260329T203915Z
UID:19013-1775174400-1775260799@stjosephwhitesalmon.org
SUMMARY:Good Friday | Viernes Santo
DESCRIPTION:6 p.m. Mass in English | 8 p.m. Misa en Español
URL:https://stjosephwhitesalmon.org/events/good-friday-5/
END:VEVENT
BEGIN:VEVENT
DTSTART;VALUE=DATE:20260404
DTEND;VALUE=DATE:20260405
DTSTAMP:20260420T165532
CREATED:20260328T045034Z
LAST-MODIFIED:20260329T204228Z
UID:19015-1775260800-1775347199@stjosephwhitesalmon.org
SUMMARY:Easter Vigil | Vigilia Pascual Bilingüe
DESCRIPTION:7 p.m. Fire lighting/Bendición del fuego | 8 p.m. Bilingual Mass/Misa Bilingüe
URL:https://stjosephwhitesalmon.org/events/easter-vigil-4/
END:VEVENT
BEGIN:VEVENT
DTSTART;VALUE=DATE:20260405
DTEND;VALUE=DATE:20260406
DTSTAMP:20260420T165532
CREATED:20251227T221730Z
LAST-MODIFIED:20260321T044520Z
UID:18762-1775347200-1775433599@stjosephwhitesalmon.org
SUMMARY:Easter Sunday
DESCRIPTION:9 a.m. Mass in English | 11 a.m. y 1 p.m. Misas en Español
URL:https://stjosephwhitesalmon.org/events/easter-sunday-5/
END:VEVENT
BEGIN:VEVENT
DTSTART;VALUE=DATE:20260405
DTEND;VALUE=DATE:20260406
DTSTAMP:20260420T165532
CREATED:20260321T044612Z
LAST-MODIFIED:20260328T040942Z
UID:18990-1775347200-1775433599@stjosephwhitesalmon.org
SUMMARY:Easter Egg Hunt | Búsqueda de Huevos de Pascua
DESCRIPTION:10 a.m. in Rhinegarten Park
URL:https://stjosephwhitesalmon.org/events/easter-egg-hunt/
END:VEVENT
BEGIN:VEVENT
DTSTART;VALUE=DATE:20260412
DTEND;VALUE=DATE:20260413
DTSTAMP:20260420T165532
CREATED:20260411T042511Z
LAST-MODIFIED:20260411T042511Z
UID:19048-1775952000-1776038399@stjosephwhitesalmon.org
SUMMARY:Cheesy Birria Tacos Sale | Venta de Tacos y Quesabirria
DESCRIPTION:After each Mass\, at Joseph House | Después de cada Misa\, en el Salón San José
URL:https://stjosephwhitesalmon.org/events/cheesy-birria-tacos-sale-venta-de-tacos-y-quesabirria/
END:VEVENT
BEGIN:VEVENT
DTSTART;VALUE=DATE:20260413
DTEND;VALUE=DATE:20260414
DTSTAMP:20260420T165532
CREATED:20260328T044423Z
LAST-MODIFIED:20260328T044423Z
UID:19007-1776038400-1776124799@stjosephwhitesalmon.org
SUMMARY:Altar Society Meeting
DESCRIPTION:6 p.m. in the parish basement. All St. Joseph ladies are invited.
URL:https://stjosephwhitesalmon.org/events/altar-society-meeting-11/
END:VEVENT
BEGIN:VEVENT
DTSTART;VALUE=DATE:20260418
DTEND;VALUE=DATE:20260420
DTSTAMP:20260420T165532
CREATED:20260321T043647Z
LAST-MODIFIED:20260321T043647Z
UID:18980-1776470400-1776643199@stjosephwhitesalmon.org
SUMMARY:Sausage Sale | Venta de Chorizo
DESCRIPTION:After all Masses | Después de las Misas
URL:https://stjosephwhitesalmon.org/events/sausage-sale-venta-de-chorizo-3/
END:VEVENT
BEGIN:VEVENT
DTSTART;VALUE=DATE:20260425
DTEND;VALUE=DATE:20260426
DTSTAMP:20260420T165532
CREATED:20260321T044100Z
LAST-MODIFIED:20260411T041926Z
UID:18985-1777075200-1777161599@stjosephwhitesalmon.org
SUMMARY:Annual Plant Sale | Venta de Plantas
DESCRIPTION:9 a.m. – 2 p.m.\, across from Harvest Market | en frente de Harvest Market
URL:https://stjosephwhitesalmon.org/events/annual-plant-sale-venta-de-plantas/
END:VEVENT
BEGIN:VEVENT
DTSTART;VALUE=DATE:20260426
DTEND;VALUE=DATE:20260427
DTSTAMP:20260420T165532
CREATED:20260405T175315Z
LAST-MODIFIED:20260405T175326Z
UID:19037-1777161600-1777247999@stjosephwhitesalmon.org
SUMMARY:Plática Prebautismal ꞁ Mes de Abril
DESCRIPTION:9 – 10 a.m.\, en el Salón San José
URL:https://stjosephwhitesalmon.org/events/platica-prebautismal-%ea%9e%81-mes-de-marzo-2/
END:VEVENT
BEGIN:VEVENT
DTSTART;VALUE=DATE:20260503
DTEND;VALUE=DATE:20260504
DTSTAMP:20260420T165532
CREATED:20260328T045842Z
LAST-MODIFIED:20260328T045842Z
UID:19018-1777766400-1777852799@stjosephwhitesalmon.org
SUMMARY:Coffee Social and Raffle Drawing
DESCRIPTION:After the 9 a.m. Mass
URL:https://stjosephwhitesalmon.org/events/coffee-social-and-raffle-drawing/
END:VEVENT
BEGIN:VEVENT
DTSTART;VALUE=DATE:20260510
DTEND;VALUE=DATE:20260511
DTSTAMP:20260420T165532
CREATED:20260418T024344Z
LAST-MODIFIED:20260418T024344Z
UID:19059-1778371200-1778457599@stjosephwhitesalmon.org
SUMMARY:Mother's Day
DESCRIPTION:
URL:https://stjosephwhitesalmon.org/events/mothers-day-5/
END:VEVENT
BEGIN:VEVENT
DTSTART;VALUE=DATE:20260525
DTEND;VALUE=DATE:20260526
DTSTAMP:20260420T165532
CREATED:20260418T024418Z
LAST-MODIFIED:20260418T024418Z
UID:19062-1779667200-1779753599@stjosephwhitesalmon.org
SUMMARY:Memorial Day
DESCRIPTION:
URL:https://stjosephwhitesalmon.org/events/memorial-day-5/
END:VEVENT
BEGIN:VEVENT
DTSTART;VALUE=DATE:20260621
DTEND;VALUE=DATE:20260622
DTSTAMP:20260420T165532
CREATED:20260418T024443Z
LAST-MODIFIED:20260418T024443Z
UID:19064-1782000000-1782086399@stjosephwhitesalmon.org
SUMMARY:Father's Day
DESCRIPTION:
URL:https://stjosephwhitesalmon.org/events/fathers-day-6/
END:VEVENT
END:VCALENDAR