BEGIN:VCALENDAR
VERSION:2.0
PRODID:-//St. Joseph Catholic Church - ECPv6.15.20//NONSGML v1.0//EN
CALSCALE:GREGORIAN
METHOD:PUBLISH
X-WR-CALNAME:St. Joseph Catholic Church
X-ORIGINAL-URL:https://stjosephwhitesalmon.org
X-WR-CALDESC:Events for St. Joseph Catholic Church
REFRESH-INTERVAL;VALUE=DURATION:PT1H
X-Robots-Tag:noindex
X-PUBLISHED-TTL:PT1H
BEGIN:VTIMEZONE
TZID:America/Los_Angeles
BEGIN:DAYLIGHT
TZOFFSETFROM:-0800
TZOFFSETTO:-0700
TZNAME:PDT
DTSTART:20200308T100000
END:DAYLIGHT
BEGIN:STANDARD
TZOFFSETFROM:-0700
TZOFFSETTO:-0800
TZNAME:PST
DTSTART:20201101T090000
END:STANDARD
BEGIN:DAYLIGHT
TZOFFSETFROM:-0800
TZOFFSETTO:-0700
TZNAME:PDT
DTSTART:20210314T100000
END:DAYLIGHT
BEGIN:STANDARD
TZOFFSETFROM:-0700
TZOFFSETTO:-0800
TZNAME:PST
DTSTART:20211107T090000
END:STANDARD
BEGIN:DAYLIGHT
TZOFFSETFROM:-0800
TZOFFSETTO:-0700
TZNAME:PDT
DTSTART:20220313T100000
END:DAYLIGHT
BEGIN:STANDARD
TZOFFSETFROM:-0700
TZOFFSETTO:-0800
TZNAME:PST
DTSTART:20221106T090000
END:STANDARD
END:VTIMEZONE
BEGIN:VEVENT
DTSTART;VALUE=DATE:20210613
DTEND;VALUE=DATE:20210614
DTSTAMP:20260419T110210
CREATED:20210605T185923Z
LAST-MODIFIED:20210605T185923Z
UID:11468-1623542400-1623628799@stjosephwhitesalmon.org
SUMMARY:Penance ServiceServicio de Reconciliación
DESCRIPTION:3 p.m.
URL:https://stjosephwhitesalmon.org/events/penance-serviceservicio-de-reconciliacion/
END:VEVENT
BEGIN:VEVENT
DTSTART;VALUE=DATE:20210620
DTEND;VALUE=DATE:20210621
DTSTAMP:20260419T110210
CREATED:20210410T184255Z
LAST-MODIFIED:20210410T184255Z
UID:11352-1624147200-1624233599@stjosephwhitesalmon.org
SUMMARY:Father's Day
DESCRIPTION:
URL:https://stjosephwhitesalmon.org/events/fathers-day/
END:VEVENT
BEGIN:VEVENT
DTSTART;VALUE=DATE:20210627
DTEND;VALUE=DATE:20210628
DTSTAMP:20260419T110210
CREATED:20210515T050341Z
LAST-MODIFIED:20210515T050341Z
UID:11429-1624752000-1624838399@stjosephwhitesalmon.org
SUMMARY:Confirmation Mass Confirmaciones
DESCRIPTION:3:00 p.m.
URL:https://stjosephwhitesalmon.org/events/confirmation-mass-confirmaciones/
END:VEVENT
END:VCALENDAR