BEGIN:VCALENDAR
VERSION:2.0
PRODID:-//St. Joseph Catholic Church - ECPv6.15.20//NONSGML v1.0//EN
CALSCALE:GREGORIAN
METHOD:PUBLISH
X-WR-CALNAME:St. Joseph Catholic Church
X-ORIGINAL-URL:https://stjosephwhitesalmon.org
X-WR-CALDESC:Events for St. Joseph Catholic Church
REFRESH-INTERVAL;VALUE=DURATION:PT1H
X-Robots-Tag:noindex
X-PUBLISHED-TTL:PT1H
BEGIN:VTIMEZONE
TZID:America/Los_Angeles
BEGIN:DAYLIGHT
TZOFFSETFROM:-0800
TZOFFSETTO:-0700
TZNAME:PDT
DTSTART:20200308T100000
END:DAYLIGHT
BEGIN:STANDARD
TZOFFSETFROM:-0700
TZOFFSETTO:-0800
TZNAME:PST
DTSTART:20201101T090000
END:STANDARD
BEGIN:DAYLIGHT
TZOFFSETFROM:-0800
TZOFFSETTO:-0700
TZNAME:PDT
DTSTART:20210314T100000
END:DAYLIGHT
BEGIN:STANDARD
TZOFFSETFROM:-0700
TZOFFSETTO:-0800
TZNAME:PST
DTSTART:20211107T090000
END:STANDARD
BEGIN:DAYLIGHT
TZOFFSETFROM:-0800
TZOFFSETTO:-0700
TZNAME:PDT
DTSTART:20220313T100000
END:DAYLIGHT
BEGIN:STANDARD
TZOFFSETFROM:-0700
TZOFFSETTO:-0800
TZNAME:PST
DTSTART:20221106T090000
END:STANDARD
END:VTIMEZONE
BEGIN:VEVENT
DTSTART;VALUE=DATE:20210701
DTEND;VALUE=DATE:20210702
DTSTAMP:20260419T092244
CREATED:20210605T185820Z
LAST-MODIFIED:20210605T185820Z
UID:11466-1625097600-1625183999@stjosephwhitesalmon.org
SUMMARY:Church CleaningLimpieza de la Iglesia
DESCRIPTION:9 a.m. – 12 p.m.
URL:https://stjosephwhitesalmon.org/events/church-cleaninglimpieza-de-la-iglesia/
END:VEVENT
BEGIN:VEVENT
DTSTART;VALUE=DATE:20210704
DTEND;VALUE=DATE:20210705
DTSTAMP:20260419T092244
CREATED:20210410T184343Z
LAST-MODIFIED:20210410T184343Z
UID:11354-1625356800-1625443199@stjosephwhitesalmon.org
SUMMARY:Independence Day
DESCRIPTION:
URL:https://stjosephwhitesalmon.org/events/independence-day/
END:VEVENT
END:VCALENDAR